BEGIN:VCALENDAR
VERSION:2.0
PRODID:-//Sabre//Sabre VObject 4.5.8//EN
CALSCALE:GREGORIAN
BEGIN:VEVENT
UID:criticalmass-one-darmstadt-1465578000
DTSTAMP:20260425T002044Z
SUMMARY:Critical Mass Darmstadt 10.06.2016
DTSTART;TZID=Europe/Berlin:20160610T190000
DTEND;TZID=Europe/Berlin:20160610T210000
LOCATION:Marktplatz
GEO:49.872539;8.655291
URL;VALUE=URI:https://criticalmass.in/darmstadt/2016-06-10
END:VEVENT
END:VCALENDAR
