BEGIN:VCALENDAR
VERSION:2.0
PRODID:-//Sabre//Sabre VObject 4.5.8//EN
CALSCALE:GREGORIAN
BEGIN:VEVENT
UID:criticalmass-one-darmstadt-1449856800
DTSTAMP:20260422T231136Z
SUMMARY:Critical Mass Darmstadt 11.12.2015
DTSTART;TZID=Europe/Berlin:20151211T190000
DTEND;TZID=Europe/Berlin:20151211T210000
LOCATION:Marktplatz
GEO:49.872539;8.655291
URL;VALUE=URI:https://criticalmass.in/darmstadt/2015-12-11
END:VEVENT
END:VCALENDAR
