BEGIN:VCALENDAR
VERSION:2.0
PRODID:-//Sabre//Sabre VObject 4.5.8//EN
CALSCALE:GREGORIAN
BEGIN:VEVENT
UID:criticalmass-one-darmstadt-1431104400
DTSTAMP:20260423T143329Z
SUMMARY:Critical Mass Darmstadt 08.05.2015
DTSTART;TZID=Europe/Berlin:20150508T190000
DTEND;TZID=Europe/Berlin:20150508T210000
LOCATION:Marktplatz
GEO:49.872539;8.655291
URL;VALUE=URI:https://criticalmass.in/darmstadt/2015-05-08
END:VEVENT
END:VCALENDAR
