BEGIN:VCALENDAR
VERSION:2.0
PRODID:-//Sabre//Sabre VObject 4.5.8//EN
CALSCALE:GREGORIAN
BEGIN:VEVENT
UID:criticalmass-one-darmstadt-1418407200
DTSTAMP:20260425T002307Z
SUMMARY:Critical Mass Darmstadt 12.12.2014
DTSTART;TZID=Europe/Berlin:20141212T190000
DTEND;TZID=Europe/Berlin:20141212T210000
LOCATION:Marktplatz
GEO:49.872539;8.655291
URL;VALUE=URI:https://criticalmass.in/darmstadt/2014-12-12
END:VEVENT
END:VCALENDAR
