BEGIN:VCALENDAR
VERSION:2.0
PRODID:-//Sabre//Sabre VObject 4.5.8//EN
CALSCALE:GREGORIAN
BEGIN:VEVENT
UID:criticalmass-one-darmstadt-1412960400
DTSTAMP:20260425T152435Z
SUMMARY:Critical Mass Darmstadt 10.10.2014
DTSTART;TZID=Europe/Berlin:20141010T190000
DTEND;TZID=Europe/Berlin:20141010T210000
LOCATION:Marktplatz
GEO:49.872539;8.655291
URL;VALUE=URI:https://criticalmass.in/darmstadt/2014-10-10
END:VEVENT
END:VCALENDAR
