BEGIN:VCALENDAR
VERSION:2.0
PRODID:-//Sabre//Sabre VObject 4.5.8//EN
CALSCALE:GREGORIAN
BEGIN:VEVENT
UID:criticalmass-one-darmstadt-1397235600
DTSTAMP:20260422T031115Z
SUMMARY:Critical Mass Darmstadt 11.04.2014
DTSTART;TZID=Europe/Berlin:20140411T190000
DTEND;TZID=Europe/Berlin:20140411T210000
LOCATION:Marktplatz
GEO:49.872539;8.655291
URL;VALUE=URI:https://criticalmass.in/darmstadt/2014-04-11
END:VEVENT
END:VCALENDAR
