BEGIN:VCALENDAR
VERSION:2.0
PRODID:-//Sabre//Sabre VObject 4.5.8//EN
CALSCALE:GREGORIAN
BEGIN:VEVENT
UID:criticalmass-one-colorado-springs-1769857200
DTSTAMP:20260422T065530Z
SUMMARY:Alex Pretti Memorial Ride — The Wednesday Ride
DESCRIPTION:Roll out at 11am\, ride to America the Beautiful then back to t
 he Lincoln Center
DTSTART;TZID=America/Denver:20260131T040000
DTEND;TZID=America/Denver:20260131T060000
LOCATION:Colorado Springs
GEO:38.871410;-104.822242
URL;VALUE=URI:https://criticalmass.in/colorado-springs/alex-pretti-memorial
 -ride-colorado-springs-2026-01-31
END:VEVENT
END:VCALENDAR
