BEGIN:VCALENDAR
VERSION:2.0
PRODID:-//Sabre//Sabre VObject 4.5.8//EN
CALSCALE:GREGORIAN
BEGIN:VEVENT
UID:criticalmass-one-city-of-geneva-1769864400
DTSTAMP:20260423T091358Z
SUMMARY:Alex Pretti Memorial Ride — Maiorossé Cycles
DESCRIPTION:Saturday\, 1/31. Meet up at 1pm and dress warm. At 1:30 we roll
  in memory of Alex Pretti and stand up for taking our country back!
DTSTART;TZID=America/New_York:20260131T080000
DTEND;TZID=America/New_York:20260131T100000
LOCATION:City of Geneva
GEO:42.867840;-76.980979
URL;VALUE=URI:https://criticalmass.in/city-of-geneva/alex-pretti-memorial-r
 ide-city-of-geneva-2026-01-31
END:VEVENT
END:VCALENDAR
