BEGIN:VCALENDAR
VERSION:2.0
PRODID:-//Sabre//Sabre VObject 4.5.8//EN
CALSCALE:GREGORIAN
BEGIN:VEVENT
UID:criticalmass-one-chur-1764349200
DTSTAMP:20260423T143631Z
SUMMARY:Critical Mass Chur 28.11.2025
DTSTART;TZID=Europe/Berlin:20251128T180000
DTEND;TZID=Europe/Berlin:20251128T200000
LOCATION:Turnerwiese
GEO:46.856662;9.532474
URL;VALUE=URI:https://criticalmass.in/chur/2025-11-28
END:VEVENT
END:VCALENDAR
