BEGIN:VCALENDAR
VERSION:2.0
PRODID:-//Sabre//Sabre VObject 4.5.8//EN
CALSCALE:GREGORIAN
BEGIN:VEVENT
UID:criticalmass-one-chur-1645804800
DTSTAMP:20260421T143505Z
SUMMARY:Critical Mass Chur 25.02.2022
DTSTART;TZID=Europe/Berlin:20220225T170000
DTEND;TZID=Europe/Berlin:20220225T190000
LOCATION:Turnerwiese
GEO:46.856662;9.532474
URL;VALUE=URI:https://criticalmass.in/chur/2022-02-25
END:VEVENT
END:VCALENDAR
