BEGIN:VCALENDAR
VERSION:2.0
PRODID:-//Sabre//Sabre VObject 4.5.8//EN
CALSCALE:GREGORIAN
BEGIN:VEVENT
UID:criticalmass-one-chemnitz-1652619600
DTSTAMP:20260422T202826Z
SUMMARY:Kidical Mass Chemnitz 15.05.2022
DTSTART;TZID=Europe/Berlin:20220515T150000
DTEND;TZID=Europe/Berlin:20220515T170000
LOCATION:Karl-Marx Monument
GEO:50.835758;12.923441
URL;VALUE=URI:https://criticalmass.in/chemnitz/kidical-mass-chemnitz-mai-20
 22
END:VEVENT
END:VCALENDAR
