BEGIN:VCALENDAR
VERSION:2.0
PRODID:-//Sabre//Sabre VObject 4.5.8//EN
CALSCALE:GREGORIAN
BEGIN:VEVENT
UID:criticalmass-one-chattanooga-1769886000
DTSTAMP:20260422T140303Z
SUMMARY:Alex Pretti Memorial Ride — Two Bikes Chattanooga
DESCRIPTION:This Saturday! Meet at 1 p.m.\, ride at 1:30. 
DTSTART;TZID=America/Chicago:20260131T130000
DTEND;TZID=America/Chicago:20260131T150000
LOCATION:Chattanooga
GEO:35.026302;-85.281208
URL;VALUE=URI:https://criticalmass.in/chattanooga/alex-pretti-memorial-ride
 -chattanooga-2026-01-31
END:VEVENT
END:VCALENDAR
