BEGIN:VCALENDAR
VERSION:2.0
PRODID:-//Sabre//Sabre VObject 4.5.8//EN
CALSCALE:GREGORIAN
BEGIN:VEVENT
UID:criticalmass-one-charlottesville-1769864400
DTSTAMP:20260419T181358Z
SUMMARY:Alex Pretti Memorial Ride — Charlottesville Community Bikes
DESCRIPTION:Location: Preston Plaza Charlottesville\, Virginia\nMeetup at 1
  pm\, Roll out at 1:30. collab with Endeavor Cycles.
DTSTART;TZID=America/New_York:20260131T080000
DTEND;TZID=America/New_York:20260131T100000
LOCATION:Preston Plaza\, Charlottesville
GEO:38.038455;-78.489922
URL;VALUE=URI:https://criticalmass.in/charlottesville/alex-pretti-memorial-
 ride-charlottesville-2026-01-31
END:VEVENT
END:VCALENDAR
