BEGIN:VCALENDAR
VERSION:2.0
PRODID:-//Sabre//Sabre VObject 4.5.8//EN
CALSCALE:GREGORIAN
BEGIN:VEVENT
UID:criticalmass-one-carrboro-1769864400
DTSTAMP:20260423T161751Z
SUMMARY:Alex Pretti Memorial Ride — Back Alley Bikes
DESCRIPTION:Saturday January 31\nMeet at 1:00 and roll at 1:30 pm\nRoute th
 rough Carrboro\, Chapel Hill and UNC-Chapel Hill Campus\nHosts: Back Alley
  Bikes\, NEXT Chapel Hill-Carrboro and Triangle Free Bike Repair
DTSTART;TZID=America/New_York:20260131T080000
DTEND;TZID=America/New_York:20260131T100000
LOCATION:Carrboro
GEO:35.910956;-79.077258
URL;VALUE=URI:https://criticalmass.in/carrboro/alex-pretti-memorial-ride-ca
 rrboro-2026-01-31
END:VEVENT
END:VCALENDAR
