BEGIN:VCALENDAR
VERSION:2.0
PRODID:-//Sabre//Sabre VObject 4.5.8//EN
CALSCALE:GREGORIAN
BEGIN:VEVENT
UID:criticalmass-one-cardiff-1761829200
DTSTAMP:20260425T033816Z
SUMMARY:Kidical Mass Cardiff: Halloween Special
DESCRIPTION:👻 HALLOWEEN RIDE - NEXT WEEKEND!! 🎃\n\nJoin the #Hallowee
 n themed #KidicalMass fun\, family-friendly mass bike ride in #Cardiff to 
 say that it shouldn’t be scary for families to cycle and that we need #S
 treetsForEveryone in #Wales! 🚲🎶✊🏴󠁧󠁢󠁷󠁬󠁳󠁿\n\n
 📅 SUNDAY 2ND NOVEMBER @ 2PM\n📍 Start: Pedal Power Cardiff\, CF11 9LB
 \n🏁 Finish: Central Square\, CF10 1EP\n🚲 All Wheels Welcome!\n👍 G
 ive a like & share!\n\nThis is going to be a super-fun #MonsterMass ride s
 o come along in #Halloween themed costumes and bling your bike! There will
  be prizes and Mr Bones will be playing some #Monster tunes!
DTSTART;TZID=Europe/Berlin:20251030T140000
DTEND;TZID=Europe/Berlin:20251030T160000
LOCATION:Pedal Power
GEO:51.459505;-3.159750
URL;VALUE=URI:https://criticalmass.in/cardiff/2025-10-30
END:VEVENT
END:VCALENDAR
