BEGIN:VCALENDAR
VERSION:2.0
PRODID:-//Sabre//Sabre VObject 4.5.8//EN
CALSCALE:GREGORIAN
BEGIN:VEVENT
UID:criticalmass-one-cairns-1769828400
DTSTAMP:20260419T153523Z
SUMMARY:Alex Pretti Memorial Ride — Stephan the Analogical
DESCRIPTION:Meet at Mc.Allister in Smithfield at 1300.\nMeeting and get tog
 ether.\nRide to Narrow Tracks\,Stratford (15km)\nDont have insta.\nstephin
 thebush@ gmail.com
DTSTART;TZID=Australia/Brisbane:20260131T130000
DTEND;TZID=Australia/Brisbane:20260131T150000
LOCATION:Mc.Allister\, Cairns
GEO:-16.839327;145.695446
URL;VALUE=URI:https://criticalmass.in/cairns/alex-pretti-memorial-ride-cair
 ns-2026-01-31
END:VEVENT
END:VCALENDAR
