BEGIN:VCALENDAR
VERSION:2.0
PRODID:-//Sabre//Sabre VObject 4.5.8//EN
CALSCALE:GREGORIAN
BEGIN:VEVENT
UID:criticalmass-one-buenos-aires-1769886000
DTSTAMP:20260422T044902Z
SUMMARY:Alex Pretti Memorial Ride — PAZ Bikes
DESCRIPTION:Buenos Aires\, Argentina\nOrganized by PAZ Bikes\nMeet at PAZ B
 ikes bike shop\nMontiel 1013\, Liniers\, CABA\n16:00 local time
DTSTART;TZID=America/Argentina/Buenos_Aires:20260131T160000
DTEND;TZID=America/Argentina/Buenos_Aires:20260131T180000
LOCATION:PAZ Bikes\, Buenos Aires
GEO:-34.650309;-58.525780
URL;VALUE=URI:https://criticalmass.in/buenos-aires/alex-pretti-memorial-rid
 e-buenos-aires-2026-01-31
END:VEVENT
END:VCALENDAR
