BEGIN:VCALENDAR
VERSION:2.0
PRODID:-//Sabre//Sabre VObject 4.5.8//EN
CALSCALE:GREGORIAN
BEGIN:VEVENT
UID:criticalmass-one-buckeburg-1519405200
DTSTAMP:20260426T030616Z
SUMMARY:Critical Mass Bückeburg 23.02.2018
DTSTART;TZID=Europe/Berlin:20180223T180000
DTEND;TZID=Europe/Berlin:20180223T200000
LOCATION:Markplatz Bückeburg
URL;VALUE=URI:https://criticalmass.in/buckeburg/2018-02-23
END:VEVENT
END:VCALENDAR
