BEGIN:VCALENDAR
VERSION:2.0
PRODID:-//Sabre//Sabre VObject 4.5.8//EN
CALSCALE:GREGORIAN
BEGIN:VEVENT
UID:criticalmass-one-bruchsal-1769617800
DTSTAMP:20260423T185924Z
SUMMARY:Critical Mass Bruchsal 28.01.2026
DTSTART;TZID=Europe/Berlin:20260128T173000
DTEND;TZID=Europe/Berlin:20260128T193000
LOCATION:Bahnhof
GEO:49.124163;8.590493
URL;VALUE=URI:https://criticalmass.in/bruchsal/2026-01-28
END:VEVENT
END:VCALENDAR
