BEGIN:VCALENDAR
VERSION:2.0
PRODID:-//Sabre//Sabre VObject 4.5.8//EN
CALSCALE:GREGORIAN
BEGIN:VEVENT
UID:criticalmass-one-bruchsal-1767198600
DTSTAMP:20260424T104803Z
SUMMARY:Critical Mass Bruchsal 31.12.2025
DTSTART;TZID=Europe/Berlin:20251231T173000
DTEND;TZID=Europe/Berlin:20251231T193000
LOCATION:Bahnhof
GEO:49.124163;8.590493
URL;VALUE=URI:https://criticalmass.in/bruchsal/2025-12-31
END:VEVENT
END:VCALENDAR
