BEGIN:VCALENDAR
VERSION:2.0
PRODID:-//Sabre//Sabre VObject 4.5.8//EN
CALSCALE:GREGORIAN
BEGIN:VEVENT
UID:criticalmass-one-bruchsal-1758727800
DTSTAMP:20260423T154726Z
SUMMARY:Critical Mass Bruchsal 24.09.2025
DTSTART;TZID=Europe/Berlin:20250924T173000
DTEND;TZID=Europe/Berlin:20250924T193000
LOCATION:Bahnhof
GEO:49.124163;8.590493
URL;VALUE=URI:https://criticalmass.in/bruchsal/2025-09-24
END:VEVENT
END:VCALENDAR
