BEGIN:VCALENDAR
VERSION:2.0
PRODID:-//Sabre//Sabre VObject 4.5.8//EN
CALSCALE:GREGORIAN
BEGIN:VEVENT
UID:criticalmass-one-bruchsal-1750865400
DTSTAMP:20260425T164753Z
SUMMARY:Critical Mass Bruchsal 25.06.2025
DTSTART;TZID=Europe/Berlin:20250625T173000
DTEND;TZID=Europe/Berlin:20250625T193000
LOCATION:Quartiersplatz der Bahnstadt
GEO:49.124163;8.590493
URL;VALUE=URI:https://criticalmass.in/bruchsal/2025-06-25
END:VEVENT
END:VCALENDAR
