BEGIN:VCALENDAR
VERSION:2.0
PRODID:-//Sabre//Sabre VObject 4.5.8//EN
CALSCALE:GREGORIAN
BEGIN:VEVENT
UID:criticalmass-one-bruchsal-1748446200
DTSTAMP:20260424T072146Z
SUMMARY:Critical Mass Bruchsal 28.05.2025
DTSTART;TZID=Europe/Berlin:20250528T173000
DTEND;TZID=Europe/Berlin:20250528T193000
LOCATION:Quartiersplatz der Bahnstadt
GEO:49.124163;8.590493
URL;VALUE=URI:https://criticalmass.in/bruchsal/2025-05-28
END:VEVENT
END:VCALENDAR
