BEGIN:VCALENDAR
VERSION:2.0
PRODID:-//Sabre//Sabre VObject 4.5.8//EN
CALSCALE:GREGORIAN
BEGIN:VEVENT
UID:criticalmass-one-bruchsal-1738168200
DTSTAMP:20260424T121552Z
SUMMARY:Critical Mass Bruchsal 29.01.2025
DTSTART;TZID=Europe/Berlin:20250129T173000
DTEND;TZID=Europe/Berlin:20250129T193000
LOCATION:Quartiersplatz der Bahnstadt
GEO:49.124275;8.587511
URL;VALUE=URI:https://criticalmass.in/bruchsal/2025-01-29
END:VEVENT
END:VCALENDAR
