BEGIN:VCALENDAR
VERSION:2.0
PRODID:-//Sabre//Sabre VObject 4.5.8//EN
CALSCALE:GREGORIAN
BEGIN:VEVENT
UID:criticalmass-one-bruchsal-1730305800
DTSTAMP:20260423T185923Z
SUMMARY:Critical Mass Bruchsal 30.10.2024
DTSTART;TZID=Europe/Berlin:20241030T173000
DTEND;TZID=Europe/Berlin:20241030T193000
LOCATION:Quartiersplatz der Bahnstadt
GEO:49.124339;8.587575
URL;VALUE=URI:https://criticalmass.in/bruchsal/2024-10-30
END:VEVENT
END:VCALENDAR
