BEGIN:VCALENDAR
VERSION:2.0
PRODID:-//Sabre//Sabre VObject 4.5.8//EN
CALSCALE:GREGORIAN
BEGIN:VEVENT
UID:criticalmass-one-bruchsal-1690385400
DTSTAMP:20260423T190015Z
SUMMARY:Critical Mass Bruchsal 26.07.2023
DTSTART;TZID=Europe/Berlin:20230726T173000
DTEND;TZID=Europe/Berlin:20230726T193000
LOCATION:Bahnhof
GEO:49.124163;8.590493
URL;VALUE=URI:https://criticalmass.in/bruchsal/2023-07-26
END:VEVENT
END:VCALENDAR
