BEGIN:VCALENDAR
VERSION:2.0
PRODID:-//Sabre//Sabre VObject 4.5.8//EN
CALSCALE:GREGORIAN
BEGIN:VEVENT
UID:criticalmass-one-bruchsal-1687966200
DTSTAMP:20260422T001553Z
SUMMARY:Critical Mass Bruchsal 28.06.2023
DTSTART;TZID=Europe/Berlin:20230628T173000
DTEND;TZID=Europe/Berlin:20230628T193000
LOCATION:Bahnhof
GEO:49.124163;8.590493
URL;VALUE=URI:https://criticalmass.in/bruchsal/2023-06-28
END:VEVENT
END:VCALENDAR
