BEGIN:VCALENDAR
VERSION:2.0
PRODID:-//Sabre//Sabre VObject 4.5.8//EN
CALSCALE:GREGORIAN
BEGIN:VEVENT
UID:criticalmass-one-bruchsal-1685547000
DTSTAMP:20260424T092311Z
SUMMARY:Critical Mass Bruchsal 31.05.2023
DTSTART;TZID=Europe/Berlin:20230531T173000
DTEND;TZID=Europe/Berlin:20230531T193000
LOCATION:Bahnhof
GEO:49.124163;8.590493
URL;VALUE=URI:https://criticalmass.in/bruchsal/2023-05-31
END:VEVENT
END:VCALENDAR
