BEGIN:VCALENDAR
VERSION:2.0
PRODID:-//Sabre//Sabre VObject 4.5.8//EN
CALSCALE:GREGORIAN
BEGIN:VEVENT
UID:criticalmass-one-bruchsal-1682523000
DTSTAMP:20260421T100511Z
SUMMARY:Critical Mass Bruchsal 26.04.2023
DTSTART;TZID=Europe/Berlin:20230426T173000
DTEND;TZID=Europe/Berlin:20230426T193000
LOCATION:Bahnhof
GEO:49.124163;8.590493
URL;VALUE=URI:https://criticalmass.in/bruchsal/2023-04-26
END:VEVENT
END:VCALENDAR
