BEGIN:VCALENDAR
VERSION:2.0
PRODID:-//Sabre//Sabre VObject 4.5.8//EN
CALSCALE:GREGORIAN
BEGIN:VEVENT
UID:criticalmass-one-bruchsal-1680103800
DTSTAMP:20260425T105619Z
SUMMARY:Critical Mass Bruchsal 29.03.2023
DTSTART;TZID=Europe/Berlin:20230329T173000
DTEND;TZID=Europe/Berlin:20230329T193000
LOCATION:Bahnhof
GEO:49.124163;8.590493
URL;VALUE=URI:https://criticalmass.in/bruchsal/2023-03-29
END:VEVENT
END:VCALENDAR
