BEGIN:VCALENDAR
VERSION:2.0
PRODID:-//Sabre//Sabre VObject 4.5.8//EN
CALSCALE:GREGORIAN
BEGIN:VEVENT
UID:criticalmass-one-bruchsal-1677083400
DTSTAMP:20260423T113157Z
SUMMARY:Critical Mass Bruchsal 22.02.2023
DTSTART;TZID=Europe/Berlin:20230222T173000
DTEND;TZID=Europe/Berlin:20230222T193000
LOCATION:Bahnhof
GEO:49.124163;8.590493
URL;VALUE=URI:https://criticalmass.in/bruchsal/2023-02-22
END:VEVENT
END:VCALENDAR
