BEGIN:VCALENDAR
VERSION:2.0
PRODID:-//Sabre//Sabre VObject 4.5.8//EN
CALSCALE:GREGORIAN
BEGIN:VEVENT
UID:criticalmass-one-bruchsal-1672245000
DTSTAMP:20260423T143206Z
SUMMARY:Critical Mass Bruchsal 28.12.2022
DTSTART;TZID=Europe/Berlin:20221228T173000
DTEND;TZID=Europe/Berlin:20221228T193000
LOCATION:Bahnhof
GEO:49.124163;8.590493
URL;VALUE=URI:https://criticalmass.in/bruchsal/2022-12-28
END:VEVENT
END:VCALENDAR
