BEGIN:VCALENDAR
VERSION:2.0
PRODID:-//Sabre//Sabre VObject 4.5.8//EN
CALSCALE:GREGORIAN
BEGIN:VEVENT
UID:criticalmass-one-bruchsal-1664379000
DTSTAMP:20260423T184946Z
SUMMARY:Critical Mass Bruchsal 28.09.2022
DTSTART;TZID=Europe/Berlin:20220928T173000
DTEND;TZID=Europe/Berlin:20220928T193000
LOCATION:Bahnhof
GEO:49.124163;8.590493
URL;VALUE=URI:https://criticalmass.in/bruchsal/2022-09-28
END:VEVENT
END:VCALENDAR
