BEGIN:VCALENDAR
VERSION:2.0
PRODID:-//Sabre//Sabre VObject 4.5.8//EN
CALSCALE:GREGORIAN
BEGIN:VEVENT
UID:criticalmass-one-bruchsal-1648654200
DTSTAMP:20260423T190013Z
SUMMARY:Critical Mass Bruchsal 30.03.2022
DTSTART;TZID=Europe/Berlin:20220330T173000
DTEND;TZID=Europe/Berlin:20220330T193000
LOCATION:Bahnhof
GEO:49.124163;8.590493
URL;VALUE=URI:https://criticalmass.in/bruchsal/2022-03-30
END:VEVENT
END:VCALENDAR
