BEGIN:VCALENDAR
VERSION:2.0
PRODID:-//Sabre//Sabre VObject 4.5.8//EN
CALSCALE:GREGORIAN
BEGIN:VEVENT
UID:criticalmass-one-brilon-1683450000
DTSTAMP:20260426T022056Z
SUMMARY:Kidical Mass Brilon 07.05.2023
DTSTART;TZID=Europe/Berlin:20230507T110000
DTEND;TZID=Europe/Berlin:20230507T130000
LOCATION:Brilon Markt
GEO:51.395340;8.566883
URL;VALUE=URI:https://criticalmass.in/brilon/kidical-mass-brilon-mai-2023
END:VEVENT
END:VCALENDAR
