BEGIN:VCALENDAR
VERSION:2.0
PRODID:-//Sabre//Sabre VObject 4.5.8//EN
CALSCALE:GREGORIAN
BEGIN:VEVENT
UID:criticalmass-one-bridgwater-1683536400
DTSTAMP:20260422T035205Z
SUMMARY:Kidical Mass Bridgwater 08.05.2023
DTSTART;TZID=Europe/Berlin:20230508T110000
DTEND;TZID=Europe/Berlin:20230508T130000
LOCATION:Saint Saviours Avenue
GEO:51.126726;-3.000609
URL;VALUE=URI:https://criticalmass.in/bridgwater/kidical-mass-bridgwater-ma
 i-2023
END:VEVENT
END:VCALENDAR
