BEGIN:VCALENDAR
VERSION:2.0
PRODID:-//Sabre//Sabre VObject 4.5.8//EN
CALSCALE:GREGORIAN
BEGIN:VEVENT
UID:criticalmass-one-bremen-1725037200
DTSTAMP:20260421T131205Z
SUMMARY:Critical Mass Bremen 30.08.2024
DESCRIPTION:Treffpunkt zwischen Hollerallee und Gustav-Deetjen-Allee.
DTSTART;TZID=Europe/Berlin:20240830T190000
DTEND;TZID=Europe/Berlin:20240830T210000
LOCATION:Zwischen Hollerallee und Gustav-Deetjen-Allee
GEO:53.086879;8.818696
URL;VALUE=URI:https://criticalmass.in/bremen/2024-08-30
END:VEVENT
END:VCALENDAR
