BEGIN:VCALENDAR
VERSION:2.0
PRODID:-//Sabre//Sabre VObject 4.5.8//EN
CALSCALE:GREGORIAN
BEGIN:VEVENT
UID:criticalmass-one-bremen-1711735200
DTSTAMP:20260422T113639Z
SUMMARY:Critical Mass Bremen 29.03.2024
DESCRIPTION:Treffpunkt zwischen Hollerallee und Gustav-Deetjen-Allee.
DTSTART;TZID=Europe/Berlin:20240329T190000
DTEND;TZID=Europe/Berlin:20240329T210000
LOCATION:Zwischen Hollerallee und Gustav-Deetjen-Allee
GEO:53.086859;8.818663
URL;VALUE=URI:https://criticalmass.in/bremen/2024-03-29
END:VEVENT
END:VCALENDAR
