BEGIN:VCALENDAR
VERSION:2.0
PRODID:-//Sabre//Sabre VObject 4.5.8//EN
CALSCALE:GREGORIAN
BEGIN:VEVENT
UID:criticalmass-one-bremen-1707651000
DTSTAMP:20260423T112919Z
SUMMARY:Critical Mass im Gedenken an Natenom
DESCRIPTION:Deutschlandweite #Ermahnfahrten für Wissing\, Schreiner & Co. 
 zum Gedenken und im Sinne von #Natenom am 11.02.2024\n\n#VisionZero \n\nSc
 hweigeminute mit aktivierter CriticalMaps-App (CMA) https://www.criticalma
 ps.net\n\nWir setzen mit dem Einschalten der CMA *weltweit* ein elektronis
 ches Signal um 13:00 Uhr.
DTSTART;TZID=Europe/Berlin:20240211T123000
DTEND;TZID=Europe/Berlin:20240211T143000
LOCATION:Präsident-Kennedy-Platz\, Bremen
GEO:53.077183;8.815042
URL;VALUE=URI:https://criticalmass.in/bremen/2024-02-11
END:VEVENT
END:VCALENDAR
