BEGIN:VCALENDAR
VERSION:2.0
PRODID:-//Sabre//Sabre VObject 4.5.8//EN
CALSCALE:GREGORIAN
BEGIN:VEVENT
UID:criticalmass-one-bremen-1604073600
DTSTAMP:20260421T100341Z
SUMMARY:Critical Mass Bremen 30.10.2020
DTSTART;TZID=Europe/Berlin:20201030T170000
DTEND;TZID=Europe/Berlin:20201030T190000
LOCATION:Treffpunkt zwischen Hollerallee und Gustav-Deetjen-Allee
GEO:53.086730;8.818910
URL;VALUE=URI:https://criticalmass.in/bremen/2020-10-30
END:VEVENT
END:VCALENDAR
