BEGIN:VCALENDAR
VERSION:2.0
PRODID:-//Sabre//Sabre VObject 4.5.8//EN
CALSCALE:GREGORIAN
BEGIN:VEVENT
UID:criticalmass-one-bremen-1598634000
DTSTAMP:20260424T190553Z
SUMMARY:Critical Mass Bremen 28.08.2020
DTSTART;TZID=Europe/Berlin:20200828T190000
DTEND;TZID=Europe/Berlin:20200828T210000
LOCATION:Treffpunkt zwischen Hollerallee und Gustav-Deetjen-Allee
GEO:53.086730;8.818910
URL;VALUE=URI:https://criticalmass.in/bremen/2020-08-28
END:VEVENT
END:VCALENDAR
