BEGIN:VCALENDAR
VERSION:2.0
PRODID:-//Sabre//Sabre VObject 4.5.8//EN
CALSCALE:GREGORIAN
BEGIN:VEVENT
UID:criticalmass-one-braunschweig-1664010000
DTSTAMP:20260424T032820Z
SUMMARY:Kidical Mass Braunschweig 24.09.2022
DTSTART;TZID=Europe/Berlin:20220924T110000
DTEND;TZID=Europe/Berlin:20220924T130000
LOCATION:Schlossplatz
GEO:52.263278;10.526914
URL;VALUE=URI:https://criticalmass.in/braunschweig/kidical-mass-braunschwei
 g-september-2022
END:VEVENT
END:VCALENDAR
