BEGIN:VCALENDAR
VERSION:2.0
PRODID:-//Sabre//Sabre VObject 4.5.8//EN
CALSCALE:GREGORIAN
BEGIN:VEVENT
UID:criticalmass-one-braunschweig-1703872800
DTSTAMP:20260421T225336Z
SUMMARY:citical mass Braunschweig 29.12.2023
DTSTART;TZID=Europe/Berlin:20231229T190000
DTEND;TZID=Europe/Berlin:20231229T210000
LOCATION:Bahnhofsvorplatz (Braunschweig Hbf)
GEO:52.252235;10.539695
URL;VALUE=URI:https://criticalmass.in/braunschweig/2023-12-29
END:VEVENT
END:VCALENDAR
