BEGIN:VCALENDAR
VERSION:2.0
PRODID:-//Sabre//Sabre VObject 4.5.8//EN
CALSCALE:GREGORIAN
BEGIN:VEVENT
UID:criticalmass-one-braunschweig-1559322000
DTSTAMP:20260421T225251Z
SUMMARY:Critical Mass Braunschweig 31.05.2019
DTSTART;TZID=Europe/Berlin:20190531T190000
DTEND;TZID=Europe/Berlin:20190531T210000
LOCATION:Bahnhofsvorplatz
GEO:52.252235;10.539695
URL;VALUE=URI:https://criticalmass.in/braunschweig/2019-05-31
END:VEVENT
END:VCALENDAR
