BEGIN:VCALENDAR
VERSION:2.0
PRODID:-//Sabre//Sabre VObject 4.5.8//EN
CALSCALE:GREGORIAN
BEGIN:VEVENT
UID:criticalmass-one-brandenburg-1695474000
DTSTAMP:20260421T064900Z
SUMMARY:Kidical Mass Brandenburg an der Havel Süd
DTSTART;TZID=Europe/Berlin:20230923T150000
DTEND;TZID=Europe/Berlin:20230923T170000
LOCATION:Buswendeschleife Buchenweg
GEO:52.377681;12.529673
URL;VALUE=URI:https://criticalmass.in/brandenburg/kidical-mass-brandenburg-
 sued-september-2023
END:VEVENT
END:VCALENDAR
