BEGIN:VCALENDAR
VERSION:2.0
PRODID:-//Sabre//Sabre VObject 4.5.8//EN
CALSCALE:GREGORIAN
BEGIN:VEVENT
UID:criticalmass-one-brandenburg-1726923600
DTSTAMP:20260421T034920Z
SUMMARY:Kidical Mass Brandenburg an der Havel 21.09.2024
DESCRIPTION:Wir fahren über den Zentrumsring mit zwei kurzen Stopps an der
  Klingenberg-Schule und an der Kreuzung mit der Wilhelmsdorfer Straße. Am
  Hbf vorbei geht es über Geschwister-Scholl-Str\, Neust. Markt und August
 astr. zum Packhof. Bitte achtet in der Geschwister-Scholl-Straße auf die 
 Straßenbahnschienen!
DTSTART;TZID=Europe/Berlin:20240921T150000
DTEND;TZID=Europe/Berlin:20240921T170000
LOCATION:Brandenburg an der Havel Wilhelm-Busch-Schule\, Beethovenstraße
GEO:52.426710;12.522010
URL;VALUE=URI:https://criticalmass.in/brandenburg/kidical-mass-brandenburg-
 september-2024
END:VEVENT
END:VCALENDAR
