BEGIN:VCALENDAR
VERSION:2.0
PRODID:-//Sabre//Sabre VObject 4.5.8//EN
CALSCALE:GREGORIAN
BEGIN:VEVENT
UID:criticalmass-one-brandenburg-1714911300
DTSTAMP:20260421T034939Z
SUMMARY:Kidical Mass Brandenburg an der Havel 05.05.2024
DESCRIPTION:Zwischenstopp an Georg-Klingenberg-Schule um 14:55 Uhr
DTSTART;TZID=Europe/Berlin:20240505T141500
DTEND;TZID=Europe/Berlin:20240505T161500
LOCATION:Brandenburg an der Havel Beethovenstraße 15
GEO:52.426710;12.522010
URL;VALUE=URI:https://criticalmass.in/brandenburg/kidical-mass-brandenburg-
 mai-2024
END:VEVENT
END:VCALENDAR
