BEGIN:VCALENDAR
VERSION:2.0
PRODID:-//Sabre//Sabre VObject 4.5.8//EN
CALSCALE:GREGORIAN
BEGIN:VEVENT
UID:criticalmass-one-brandenburg-1683464400
DTSTAMP:20260421T020411Z
SUMMARY:Kidical Mass Brandenburg an der Havel 07.05.2023
DTSTART;TZID=Europe/Berlin:20230507T150000
DTEND;TZID=Europe/Berlin:20230507T170000
LOCATION:Massowburg
GEO:52.427608;12.558381
URL;VALUE=URI:https://criticalmass.in/brandenburg/kidical-mass-brandenburg-
 mai-2023
END:VEVENT
END:VCALENDAR
