BEGIN:VCALENDAR
VERSION:2.0
PRODID:-//Sabre//Sabre VObject 4.5.8//EN
CALSCALE:GREGORIAN
BEGIN:VEVENT
UID:criticalmass-one-brandenburg-1758459600
DTSTAMP:20260421T083525Z
SUMMARY:Kidical Mass Brandenburg an der Havel 21.09.2025
DESCRIPTION:Route Kulturpavillion - Nikolaiplatz - Vereinsstr. - Zentrumsri
 ng - Hauptbahnhof - B1 - Potsdamer Str. - St.-Annen-Str. - Neust. Markt- A
 ugustastr. - Große Münzenstr. - Hauptstr. - Kurstr. Am Ziel in der Kurst
 raße Veranstaltung zur Europäischen Mobilitätswoche von VCD\, Denkmanuf
 aktur und hEimWeRTs.
DTSTART;TZID=Europe/Berlin:20250921T150000
DTEND;TZID=Europe/Berlin:20250921T170000
LOCATION:Brandenburg an der Havel Kulturpavillion am Rosenhag
GEO:52.412033;12.549999
URL;VALUE=URI:https://criticalmass.in/brandenburg/kidical-mass-brandenburg-
 an-der-havel-september-2025
END:VEVENT
END:VCALENDAR
