BEGIN:VCALENDAR
VERSION:2.0
PRODID:-//Sabre//Sabre VObject 4.5.8//EN
CALSCALE:GREGORIAN
BEGIN:VEVENT
UID:criticalmass-one-bottrop-1772820000
DTSTAMP:20260424T192414Z
SUMMARY:Critical Mass Bottrop 06.03.2026
DTSTART;TZID=Europe/Berlin:20260306T190000
DTEND;TZID=Europe/Berlin:20260306T210000
LOCATION:Bottrop\, Berliner Platz
GEO:51.522256;6.927738
URL;VALUE=URI:https://criticalmass.in/bottrop/2026-03-06
END:VEVENT
END:VCALENDAR
